BEGIN:VCALENDAR
VERSION:2.0
PRODID:spatie/icalendar-generator
DESCRIPTION:Veranstaltungen von Volksschule Lengau
X-WR-CALDESC:Veranstaltungen von Volksschule Lengau
REFRESH-INTERVAL;VALUE=DURATION:PT1440M
X-PUBLISHED-TTL:PT1440M
BEGIN:VTIMEZONE
TZID:Etc/GMT+0
BEGIN:STANDARD
DTSTART:20231006T000000Z
TZOFFSETFROM:+0000
TZOFFSETTO:+0000
END:STANDARD
END:VTIMEZONE
BEGIN:VTIMEZONE
TZID:UTC
BEGIN:STANDARD
DTSTART:20250728T084951Z
TZOFFSETFROM:+0000
TZOFFSETTO:+0000
END:STANDARD
END:VTIMEZONE
BEGIN:VEVENT
UID:214-98
DTSTAMP:20260424T084951Z
SUMMARY:Domquartier Salzburg - 1. + 2. Klassen
LOCATION:
ORGANIZER;CN=lengauwwi:MAILTO:s404241@schule-ooe.at
DTSTART;TZID=Etc/GMT+0:20240702T000000
DTEND;TZID=Etc/GMT+0:20240702T010000
X-ALT-DESC;FMTTYPE=TEXT/HTML:
CATEGORIES:Frei
URL;VALUE=URI:https://vslengau.at/mc-events/domquartier-salzburg-1-2-klasse
 n/?mc_id=214
METHOD:PUBLISH
END:VEVENT
END:VCALENDAR